BEGIN:VCALENDAR
VERSION:2.0
PRODID:itakvim.com
METHOD:PUBLISH
UID:a11dcdd6-8cc0-4e7e-5239-08de9f183112
X-WR-CALNAME:Doktora Mezuniyet Töreni
X-ITAKVIM-LANGUAGE:tr
X-ITAKVIM-REGION:TR
CALSCALE:GREGORIAN
BEGIN:VEVENT
UID:a11dcdd6-8cc0-4e7e-5239-08de9f183112
DTSTAMP:20260420T200724Z
DTSTART:20260701T210000Z
DTEND:20260701T210000Z
TRANSP:TRANSPARENT
STATUS:CONFIRMED
SUMMARY:Doktora Mezuniyet Töreni
END:VEVENT
END:VCALENDAR
