BEGIN:VCALENDAR
VERSION:2.0
PRODID:itakvim.com
METHOD:PUBLISH
UID:a18301f0-39f1-4690-534c-08de9f183112
X-WR-CALNAME:2. Motta İzmir Motorlu Taşıtlar Fuarı
X-ITAKVIM-LANGUAGE:tr
X-ITAKVIM-REGION:TR
CALSCALE:GREGORIAN
BEGIN:VEVENT
UID:a18301f0-39f1-4690-534c-08de9f183112
DTSTAMP:20260420T200816Z
DTSTART:20261104T060000Z
DTEND:20261108T150000Z
TRANSP:TRANSPARENT
STATUS:CONFIRMED
SUMMARY:2. Motta İzmir Motorlu Taşıtlar Fuarı
DESCRIPTION:Orion Fuarcılık Ve Tanıtım Hizmetleri Anonim Şirketi tarafından düzenlenen motorlu taşıtlar fuarı konulu fuarda görüşmek üzere: 

Web:www.mottashow.com
E-Posta: info@orionfair.com
LOCATION:Fuarizmir - Yeni Fuar Alanı
END:VEVENT
END:VCALENDAR
