BEGIN:VCALENDAR
VERSION:2.0
PRODID:itakvim.com
METHOD:PUBLISH
UID:a26a38ea-d5b1-4764-52dd-08de9f183112
X-WR-CALNAME:Promogıft Istanbul 2026, Kurumsal Tanıtım Ve Reklam Ürünleri Fuarı
X-ITAKVIM-LANGUAGE:tr
X-ITAKVIM-REGION:TR
CALSCALE:GREGORIAN
BEGIN:VEVENT
UID:a26a38ea-d5b1-4764-52dd-08de9f183112
DTSTAMP:20260420T200816Z
DTSTART:20261031T060000Z
DTEND:20261103T150000Z
TRANSP:TRANSPARENT
STATUS:CONFIRMED
SUMMARY:Promogıft Istanbul 2026, Kurumsal Tanıtım Ve Reklam Ürünleri Fuarı
DESCRIPTION:Informa Fuarcılık Anonim Şirketi tarafından düzenlenen kurumsal tanıtım ve reklam ürünleri konulu fuarda görüşmek üzere: 

Web:www.promogiftistanbul.com
E-Posta: aynur.turan@informa.com
LOCATION:Tüyap Fuar Ve Kongre Merkezi
END:VEVENT
END:VCALENDAR
