BEGIN:VCALENDAR
VERSION:2.0
PRODID:itakvim.com
METHOD:PUBLISH
UID:a38ffdd7-01c3-44e1-4f02-08de9f183112
X-WR-CALNAME:KPSS Kamu Personel Seçme Sınavı 2026-KPSS Ortaöğretim Sonuç
X-ITAKVIM-LANGUAGE:tr
X-ITAKVIM-REGION:TR
CALSCALE:GREGORIAN
BEGIN:VEVENT
UID:a38ffdd7-01c3-44e1-4f02-08de9f183112
DTSTAMP:20260420T200538Z
DTSTART:20261118T210000Z
DTEND:20261118T210000Z
TRANSP:TRANSPARENT
STATUS:CONFIRMED
SUMMARY:KPSS Kamu Personel Seçme Sınavı 2026-KPSS Ortaöğretim Sonuç
END:VEVENT
END:VCALENDAR
