BEGIN:VCALENDAR
VERSION:2.0
PRODID:itakvim.com
METHOD:PUBLISH
UID:a394b293-d6a8-4372-4f03-08de9f183112
X-WR-CALNAME:KPSS Kamu Personel Seçme Sınavı 2026-KPSS Din Hizmetleri Alan Bilgisi Testi (DHBT) Sınav
X-ITAKVIM-LANGUAGE:tr
X-ITAKVIM-REGION:TR
CALSCALE:GREGORIAN
BEGIN:VEVENT
UID:a394b293-d6a8-4372-4f03-08de9f183112
DTSTAMP:20260420T200538Z
DTSTART:20261031T210000Z
DTEND:20261031T210000Z
TRANSP:TRANSPARENT
STATUS:CONFIRMED
SUMMARY:KPSS Kamu Personel Seçme Sınavı 2026-KPSS Din Hizmetleri Alan Bilgisi Testi (DHBT) Sınav
END:VEVENT
END:VCALENDAR
