BEGIN:VCALENDAR
VERSION:2.0
PRODID:itakvim.com
METHOD:PUBLISH
UID:a54b26a1-e855-49b9-5346-08de9f183112
X-WR-CALNAME:95. İzmir Enternasyonal Fuarı
X-ITAKVIM-LANGUAGE:tr
X-ITAKVIM-REGION:TR
CALSCALE:GREGORIAN
BEGIN:VEVENT
UID:a54b26a1-e855-49b9-5346-08de9f183112
DTSTAMP:20260420T200816Z
DTSTART:20260828T060000Z
DTEND:20260909T150000Z
TRANSP:TRANSPARENT
STATUS:CONFIRMED
SUMMARY:95. İzmir Enternasyonal Fuarı
DESCRIPTION:İzfaş İzmir Fuarcılık Hizmetleri Kültür Ve Sanat İşleri Ticaret Anonim Şirketi tarafından düzenlenen genel ticaret konulu fuarda görüşmek üzere: 

Web:www.izfas.com.tr
E-Posta: muhasebe@izmirfair.com.tr
LOCATION:Fuarizmir - Yeni Fuar Alanı
END:VEVENT
END:VCALENDAR
