BEGIN:VCALENDAR
VERSION:2.0
PRODID:itakvim.com
METHOD:PUBLISH
UID:a56d5c86-7bc0-40c1-4f1e-08de9f183112
X-WR-CALNAME:TR-YÖS Türkiye Yurt Dışından Öğrenci Kabul Sınavı 2026-TR-YÖS/1 Sonuç
X-ITAKVIM-LANGUAGE:tr
X-ITAKVIM-REGION:TR
CALSCALE:GREGORIAN
BEGIN:VEVENT
UID:a56d5c86-7bc0-40c1-4f1e-08de9f183112
DTSTAMP:20260420T200538Z
DTSTART:20260506T210000Z
DTEND:20260506T210000Z
TRANSP:TRANSPARENT
STATUS:CONFIRMED
SUMMARY:TR-YÖS Türkiye Yurt Dışından Öğrenci Kabul Sınavı 2026-TR-YÖS/1 Sonuç
END:VEVENT
END:VCALENDAR
