BEGIN:VCALENDAR
VERSION:2.0
PRODID:itakvim.com
METHOD:PUBLISH
UID:a584562a-684e-4276-5312-08de9f183112
X-WR-CALNAME:Europort İstanbul
X-ITAKVIM-LANGUAGE:tr
X-ITAKVIM-REGION:TR
CALSCALE:GREGORIAN
BEGIN:VEVENT
UID:a584562a-684e-4276-5312-08de9f183112
DTSTAMP:20260420T200816Z
DTSTART:20261104T060000Z
DTEND:20261106T150000Z
TRANSP:TRANSPARENT
STATUS:CONFIRMED
SUMMARY:Europort İstanbul
DESCRIPTION:Bonn Uluslararası Fuarcılık Anonim Şirketi tarafından düzenlenen denizcilik sektörü, gemi İnşa ve yan sanayi konulu fuarda görüşmek üzere: 

Web:www.europort.com.tr
E-Posta: esin.goksel@bonn.com.tr
LOCATION:Dr. Mimar Kadir Topbaş Gösteri Ve Sanat Merkezi
END:VEVENT
END:VCALENDAR
