BEGIN:VCALENDAR
VERSION:2.0
PRODID:itakvim.com
METHOD:PUBLISH
UID:a59e16b9-1611-4200-d296-08de9f271cd7
X-WR-CALNAME:Mart 2026 Dönemi Taşınmaz ve Motorlu Taşıt İlanlarını Platformları Üzerinden Yayımlayanlar ile Günübirlik Konut Kiralama İşini Platformları Üzerinden Sağlayanların Bildirimi Son Gün
X-ITAKVIM-LANGUAGE:tr
X-ITAKVIM-REGION:TR
CALSCALE:GREGORIAN
BEGIN:VEVENT
UID:a59e16b9-1611-4200-d296-08de9f271cd7
DTSTAMP:20260420T215235Z
DTSTART:20260430T140000Z
DTEND:20260430T140000Z
TRANSP:TRANSPARENT
STATUS:CONFIRMED
SUMMARY:Mart 2026 Dönemi Taşınmaz ve Motorlu Taşıt İlanlarını Platformları Üzerinden Yayımlayanlar ile Günübirlik Konut Kiralama İşini Platformları Üzerinden Sağlayanların Bildirimi Son Gün
DESCRIPTION:Mart 2026 Dönemine Ait 538 Sıra No.lu VUKGT Kapsamında Taşınmaz (Satış/Kiralama) ve Motorlu Taşıt (Satış) İlanlarını Platformları Üzerinden Yayımlayanlar ile Günübirlik Konut Kiralama İşini Platformları Üzerinden Sağlayanlarca Bildirim Verilmesi
END:VEVENT
END:VCALENDAR
