BEGIN:VCALENDAR
VERSION:2.0
PRODID:itakvim.com
METHOD:PUBLISH
UID:a5b04a9f-6a2d-40ca-4f6a-08de9f183112
X-WR-CALNAME:e-TEP Elektronik İngilizce Yeterlik Sınavı/Electronic-Test of English Proficiency (e-TEP 2026/4 İngilizce) ******* Sınav
X-ITAKVIM-LANGUAGE:tr
X-ITAKVIM-REGION:TR
CALSCALE:GREGORIAN
BEGIN:VEVENT
UID:a5b04a9f-6a2d-40ca-4f6a-08de9f183112
DTSTAMP:20260420T200538Z
DTSTART:20261113T210000Z
DTEND:20261113T210000Z
TRANSP:TRANSPARENT
STATUS:CONFIRMED
SUMMARY:e-TEP Elektronik İngilizce Yeterlik Sınavı/Electronic-Test of English Proficiency (e-TEP 2026/4 İngilizce) ******* Sınav
END:VEVENT
END:VCALENDAR
