BEGIN:VCALENDAR
VERSION:2.0
PRODID:itakvim.com
METHOD:PUBLISH
UID:a5d5158e-3719-41b1-52a9-08de9f183112
X-WR-CALNAME:Uluslararası Sılmo Istanbul Optık Fuarı
X-ITAKVIM-LANGUAGE:tr
X-ITAKVIM-REGION:TR
CALSCALE:GREGORIAN
BEGIN:VEVENT
UID:a5d5158e-3719-41b1-52a9-08de9f183112
DTSTAMP:20260420T200816Z
DTSTART:20261118T060000Z
DTEND:20261121T150000Z
TRANSP:TRANSPARENT
STATUS:CONFIRMED
SUMMARY:Uluslararası Sılmo Istanbul Optık Fuarı
DESCRIPTION:24Saat Fuarcılık Anonim Şirketi tarafından düzenlenen optik ve oftalmolojik ürünler,yedek parçalar,endüstri makinaları konulu fuarda görüşmek üzere: 

Web:www.24saatfuarcilik.com
E-Posta: b.baran@24saatajans.com
LOCATION:İstanbul Fuar Merkezi
END:VEVENT
END:VCALENDAR
