BEGIN:VCALENDAR
VERSION:2.0
PRODID:itakvim.com
METHOD:PUBLISH
UID:a5dae2cb-4303-4153-4fc6-08de9f183112
X-WR-CALNAME:MEB-AGS Millî Eğitim Bakanlığı Akademi Giriş Sınavı 2026-MEB-AGS (Akademi Giriş Sınavı (AGS), Öğretmenlik Alan Bilgisi Testi (ÖABT)) Geç Başvuru Bitiş
X-ITAKVIM-LANGUAGE:tr
X-ITAKVIM-REGION:TR
CALSCALE:GREGORIAN
BEGIN:VEVENT
UID:a5dae2cb-4303-4153-4fc6-08de9f183112
DTSTAMP:20260420T200538Z
DTSTART:20260603T205900Z
DTEND:20260603T205900Z
TRANSP:TRANSPARENT
STATUS:CONFIRMED
SUMMARY:MEB-AGS Millî Eğitim Bakanlığı Akademi Giriş Sınavı 2026-MEB-AGS (Akademi Giriş Sınavı (AGS), Öğretmenlik Alan Bilgisi Testi (ÖABT)) Geç Başvuru Bitiş
END:VEVENT
END:VCALENDAR
