BEGIN:VCALENDAR
VERSION:2.0
PRODID:itakvim.com
METHOD:PUBLISH
UID:a627c8bc-da85-4f0e-50e9-08de9f183112
X-WR-CALNAME:Monako Grand Prix'si Yarış
X-ITAKVIM-LANGUAGE:tr
X-ITAKVIM-REGION:TR
CALSCALE:GREGORIAN
BEGIN:VEVENT
UID:a627c8bc-da85-4f0e-50e9-08de9f183112
DTSTAMP:20260420T200718Z
DTSTART:20260607T130000Z
DTEND:20260607T130000Z
TRANSP:TRANSPARENT
STATUS:CONFIRMED
SUMMARY:Monako Grand Prix'si Yarış
END:VEVENT
END:VCALENDAR
