BEGIN:VCALENDAR
VERSION:2.0
PRODID:itakvim.com
METHOD:PUBLISH
UID:a64ffb77-95ca-4c29-5348-08de9f183112
X-WR-CALNAME:Iv.Expo Sport Uluslararası Spor Fuarı
X-ITAKVIM-LANGUAGE:tr
X-ITAKVIM-REGION:TR
CALSCALE:GREGORIAN
BEGIN:VEVENT
UID:a64ffb77-95ca-4c29-5348-08de9f183112
DTSTAMP:20260420T200816Z
DTSTART:20260917T060000Z
DTEND:20260920T150000Z
TRANSP:TRANSPARENT
STATUS:CONFIRMED
SUMMARY:Iv.Expo Sport Uluslararası Spor Fuarı
DESCRIPTION:Exposport Fuarcılık Anonim Şirketi tarafından düzenlenen spor, egzersiz ve sağlıklı yaşam ekipmanları konulu fuarda görüşmek üzere: 

Web:www.expo-sport.com
E-Posta: m.diyadin@expo-sport.com
LOCATION:Fuarizmir - Yeni Fuar Alanı
END:VEVENT
END:VCALENDAR
