BEGIN:VCALENDAR
VERSION:2.0
PRODID:itakvim.com
METHOD:PUBLISH
UID:a728eb9d-2ff0-4db2-5344-08de9f183112
X-WR-CALNAME:3. Iaaf Izmır Sanat Ve Antıka Fuarı
X-ITAKVIM-LANGUAGE:tr
X-ITAKVIM-REGION:TR
CALSCALE:GREGORIAN
BEGIN:VEVENT
UID:a728eb9d-2ff0-4db2-5344-08de9f183112
DTSTAMP:20260420T200816Z
DTSTART:20260513T060000Z
DTEND:20260517T150000Z
TRANSP:TRANSPARENT
STATUS:CONFIRMED
SUMMARY:3. Iaaf Izmır Sanat Ve Antıka Fuarı
DESCRIPTION:Demos Endüstri Fuarcılık Anonim Şirketi tarafından düzenlenen sanat,antıka,surelı yayınlar konulu fuarda görüşmek üzere: 

Web:www.iaafistanbul.com
E-Posta: info@demosfuar.com.tr
LOCATION:Fuarizmir - Yeni Fuar Alanı
END:VEVENT
END:VCALENDAR
