BEGIN:VCALENDAR
VERSION:2.0
PRODID:itakvim.com
METHOD:PUBLISH
UID:a792ff03-35f0-4207-4f89-08de9f183112
X-WR-CALNAME:e-YÖKDİL Elektronik Yükseköğretim Kurumları Yabancı Dil Sınavı (e-YÖKDİL 2026/1 İngilizce-Sosyal Bilimler) ****** Sonuç
X-ITAKVIM-LANGUAGE:tr
X-ITAKVIM-REGION:TR
CALSCALE:GREGORIAN
BEGIN:VEVENT
UID:a792ff03-35f0-4207-4f89-08de9f183112
DTSTAMP:20260420T200538Z
DTSTART:20260515T210000Z
DTEND:20260515T210000Z
TRANSP:TRANSPARENT
STATUS:CONFIRMED
SUMMARY:e-YÖKDİL Elektronik Yükseköğretim Kurumları Yabancı Dil Sınavı (e-YÖKDİL 2026/1 İngilizce-Sosyal Bilimler) ****** Sonuç
END:VEVENT
END:VCALENDAR
