BEGIN:VCALENDAR
VERSION:2.0
PRODID:itakvim.com
METHOD:PUBLISH
UID:a79ce7fb-c289-4528-d2cc-08de9f271cd7
X-WR-CALNAME:Mart 2026 Dönemi Sürekli Mükellefiyette Makbuz Karşılığı Damga Vergisinin Beyan ve Ödemesi Son Gün
X-ITAKVIM-LANGUAGE:tr
X-ITAKVIM-REGION:TR
CALSCALE:GREGORIAN
BEGIN:VEVENT
UID:a79ce7fb-c289-4528-d2cc-08de9f271cd7
DTSTAMP:20260420T215235Z
DTSTART:20260427T140000Z
DTEND:20260427T140000Z
TRANSP:TRANSPARENT
STATUS:CONFIRMED
SUMMARY:Mart 2026 Dönemi Sürekli Mükellefiyette Makbuz Karşılığı Damga Vergisinin Beyan ve Ödemesi Son Gün
DESCRIPTION:Mart 2026 Dönemine Ait Sürekli Mükellefiyeti Bulunanlar İçin Makbuz Karşılığı Ödenmesi Gereken Damga Vergisinin Beyanı ve Ödemesi
END:VEVENT
END:VCALENDAR
