BEGIN:VCALENDAR
VERSION:2.0
PRODID:itakvim.com
METHOD:PUBLISH
UID:a84d40ed-2fe4-446c-d6eb-08de9fecec0c
X-WR-CALNAME:YÖKDİL Yükseköğretim Kurumları Yabancı Dil Sınavı 2026-YÖKDİL/2 Geç Başvuru Bitiş
X-ITAKVIM-LANGUAGE:tr
X-ITAKVIM-REGION:TR
CALSCALE:GREGORIAN
BEGIN:VEVENT
UID:a84d40ed-2fe4-446c-d6eb-08de9fecec0c
DTSTAMP:20260421T212824Z
DTSTART:20260630T205900Z
DTEND:20260630T205900Z
TRANSP:TRANSPARENT
STATUS:CONFIRMED
SUMMARY:YÖKDİL Yükseköğretim Kurumları Yabancı Dil Sınavı 2026-YÖKDİL/2 Geç Başvuru Bitiş
END:VEVENT
END:VCALENDAR
