BEGIN:VCALENDAR
VERSION:2.0
PRODID:itakvim.com
METHOD:PUBLISH
UID:a8d69b03-61b5-4724-51c4-08de9f183112
X-WR-CALNAME:Yaz Öğretimi Web'den Ders Kayıtları / Lisans-Lisansüstü
X-ITAKVIM-LANGUAGE:tr
X-ITAKVIM-REGION:TR
CALSCALE:GREGORIAN
BEGIN:VEVENT
UID:a8d69b03-61b5-4724-51c4-08de9f183112
DTSTAMP:20260420T200724Z
DTSTART:20260624T110000Z
DTEND:20260626T130000Z
TRANSP:TRANSPARENT
STATUS:CONFIRMED
SUMMARY:Yaz Öğretimi Web'den Ders Kayıtları / Lisans-Lisansüstü
END:VEVENT
END:VCALENDAR
