BEGIN:VCALENDAR
VERSION:2.0
PRODID:itakvim.com
METHOD:PUBLISH
UID:a9a277e0-a556-40f7-dd4c-08de9c03c470
X-WR-CALNAME:İKAS EYÜPSPOR - GAZİANTEP FUTBOL KULÜBÜ A.Ş.
X-ITAKVIM-LANGUAGE:tr
X-ITAKVIM-REGION:TR
CALSCALE:GREGORIAN
BEGIN:VEVENT
UID:a9a277e0-a556-40f7-dd4c-08de9c03c470
DTSTAMP:20260416T220746Z
DTSTART:20260425T113000Z
DTEND:20260425T113000Z
TRANSP:TRANSPARENT
STATUS:CONFIRMED
SUMMARY:İKAS EYÜPSPOR - GAZİANTEP FUTBOL KULÜBÜ A.Ş.
LOCATION:RECEP TAYYİP ERDOĞAN STADYUMU - İSTANBUL
END:VEVENT
END:VCALENDAR
