BEGIN:VCALENDAR
VERSION:2.0
PRODID:itakvim.com
METHOD:PUBLISH
UID:aacaf19b-8e4c-448d-5287-08de9f183112
X-WR-CALNAME:Paıntistanbul 2026
X-ITAKVIM-LANGUAGE:tr
X-ITAKVIM-REGION:TR
CALSCALE:GREGORIAN
BEGIN:VEVENT
UID:aacaf19b-8e4c-448d-5287-08de9f183112
DTSTAMP:20260420T200816Z
DTSTART:20260617T060000Z
DTEND:20260619T150000Z
TRANSP:TRANSPARENT
STATUS:CONFIRMED
SUMMARY:Paıntistanbul 2026
DESCRIPTION:Cng Fuarcılık Ve Tanıtım Hizmetleri Anonim Şirketi tarafından düzenlenen boya, boya ham maddeleri, yapı kimyasalları ve yapıştırıcı ham maddeleri, laboratuvar ve üretim teknolojileri konulu fuarda görüşmek üzere: 

Web:paintistanbul.net
E-Posta: info@cngexpo.com
LOCATION:İstanbul Fuar Merkezi
END:VEVENT
END:VCALENDAR
