BEGIN:VCALENDAR
VERSION:2.0
PRODID:itakvim.com
METHOD:PUBLISH
UID:ab741d79-e567-4e1d-4ee4-08de9f183112
X-WR-CALNAME:EUS Eczacılıkta Uzmanlık Eğitimi Giriş Sınavı 2026-EUS Sonuç
X-ITAKVIM-LANGUAGE:tr
X-ITAKVIM-REGION:TR
CALSCALE:GREGORIAN
BEGIN:VEVENT
UID:ab741d79-e567-4e1d-4ee4-08de9f183112
DTSTAMP:20260420T200538Z
DTSTART:20261126T210000Z
DTEND:20261126T210000Z
TRANSP:TRANSPARENT
STATUS:CONFIRMED
SUMMARY:EUS Eczacılıkta Uzmanlık Eğitimi Giriş Sınavı 2026-EUS Sonuç
END:VEVENT
END:VCALENDAR
