BEGIN:VCALENDAR
VERSION:2.0
PRODID:itakvim.com
METHOD:PUBLISH
UID:ac3b1989-ba3c-48cf-52a3-08de9f183112
X-WR-CALNAME:Unıcera - İstanbul Seramik, Banyo, Mutfak Fuarı
X-ITAKVIM-LANGUAGE:tr
X-ITAKVIM-REGION:TR
CALSCALE:GREGORIAN
BEGIN:VEVENT
UID:ac3b1989-ba3c-48cf-52a3-08de9f183112
DTSTAMP:20260420T200816Z
DTSTART:20261102T060000Z
DTEND:20261106T150000Z
TRANSP:TRANSPARENT
STATUS:CONFIRMED
SUMMARY:Unıcera - İstanbul Seramik, Banyo, Mutfak Fuarı
DESCRIPTION:Unicera Uluslararası Fuarcılık Anonim Şirketi tarafından düzenlenen seramik , banyo, mutfak ekipmanları konulu fuarda görüşmek üzere: 

Web:www.unicera.com.tr
E-Posta: belgin@serfed.com
LOCATION:İstanbul Fuar Merkezi
END:VEVENT
END:VCALENDAR
