BEGIN:VCALENDAR
VERSION:2.0
PRODID:itakvim.com
METHOD:PUBLISH
UID:ac626ac4-7312-44de-531e-08de9f183112
X-WR-CALNAME:12.Şanlıurfa Gıda Tarım Ve Hayvancılık Fuarı
X-ITAKVIM-LANGUAGE:tr
X-ITAKVIM-REGION:TR
CALSCALE:GREGORIAN
BEGIN:VEVENT
UID:ac626ac4-7312-44de-531e-08de9f183112
DTSTAMP:20260420T200816Z
DTSTART:20261209T060000Z
DTEND:20261212T150000Z
TRANSP:TRANSPARENT
STATUS:CONFIRMED
SUMMARY:12.Şanlıurfa Gıda Tarım Ve Hayvancılık Fuarı
DESCRIPTION:Start Fuarcılık Ve Organizasyon Limited Şirketi tarafından düzenlenen tarım ekipmanları, tohumculuk, hayvancılık konulu fuarda görüşmek üzere: 

Web:www.startfuar.com.tr
E-Posta: info@startfuar.com-muhasebe@startfuar.com
LOCATION:Şanlıurfa Fuar Merkezi
END:VEVENT
END:VCALENDAR
