BEGIN:VCALENDAR
VERSION:2.0
PRODID:itakvim.com
METHOD:PUBLISH
UID:ac647971-1717-4527-cc9b-08de9d98d356
X-WR-CALNAME:Fosforlu Cevriye
X-ITAKVIM-LANGUAGE:tr
X-ITAKVIM-REGION:TR
CALSCALE:GREGORIAN
BEGIN:VEVENT
UID:ac647971-1717-4527-cc9b-08de9d98d356
DTSTAMP:20260418T222122Z
DTSTART:20260430T170000Z
DTEND:20260430T170000Z
TRANSP:TRANSPARENT
STATUS:CONFIRMED
SUMMARY:Fosforlu Cevriye
LOCATION:Harbiye Muhsin Ertuğrul Sahnesi
END:VEVENT
END:VCALENDAR
