BEGIN:VCALENDAR
VERSION:2.0
PRODID:itakvim.com
METHOD:PUBLISH
UID:ac9d24bd-8f7c-4d6b-cc6a-08de9d98d356
X-WR-CALNAME:Sevdalı Bulut
X-ITAKVIM-LANGUAGE:tr
X-ITAKVIM-REGION:TR
CALSCALE:GREGORIAN
BEGIN:VEVENT
UID:ac9d24bd-8f7c-4d6b-cc6a-08de9d98d356
DTSTAMP:20260418T222122Z
DTSTART:20260423T100000Z
DTEND:20260423T100000Z
TRANSP:TRANSPARENT
STATUS:CONFIRMED
SUMMARY:Sevdalı Bulut
LOCATION:Müze Gazhane Prof. Dr. Sevda Şener Sahnesi
END:VEVENT
END:VCALENDAR
