BEGIN:VCALENDAR
VERSION:2.0
PRODID:itakvim.com
METHOD:PUBLISH
UID:ad7021ce-56c5-43e0-50cb-08de9f183112
X-WR-CALNAME:ILTM Cannes
X-ITAKVIM-LANGUAGE:tr
X-ITAKVIM-REGION:TR
CALSCALE:GREGORIAN
BEGIN:VEVENT
UID:ad7021ce-56c5-43e0-50cb-08de9f183112
DTSTAMP:20260420T200713Z
DTSTART:20261201T060000Z
DTEND:20261203T150000Z
TRANSP:TRANSPARENT
STATUS:CONFIRMED
SUMMARY:ILTM Cannes
LOCATION:Cannes, Fransa
END:VEVENT
END:VCALENDAR
