BEGIN:VCALENDAR
VERSION:2.0
PRODID:itakvim.com
METHOD:PUBLISH
UID:adf3a166-fc12-472d-4edd-08de9f183112
X-WR-CALNAME:YDS Yabancı Dil Bilgisi Seviye Tespit Sınavı 2026-YDS/2 Geç Başvuru Bitiş
X-ITAKVIM-LANGUAGE:tr
X-ITAKVIM-REGION:TR
CALSCALE:GREGORIAN
BEGIN:VEVENT
UID:adf3a166-fc12-472d-4edd-08de9f183112
DTSTAMP:20260420T200538Z
DTSTART:20261014T205900Z
DTEND:20261014T205900Z
TRANSP:TRANSPARENT
STATUS:CONFIRMED
SUMMARY:YDS Yabancı Dil Bilgisi Seviye Tespit Sınavı 2026-YDS/2 Geç Başvuru Bitiş
END:VEVENT
END:VCALENDAR
