BEGIN:VCALENDAR
VERSION:2.0
PRODID:itakvim.com
METHOD:PUBLISH
UID:ae6ea6cf-c255-46d2-5179-08de9f183112
X-WR-CALNAME:Mazeret Sınavına Girecek Öğrenciler İçin Fakülte Yönetim Kurulu Kararının Son Bildirim Tarihi
X-ITAKVIM-LANGUAGE:tr
X-ITAKVIM-REGION:TR
CALSCALE:GREGORIAN
BEGIN:VEVENT
UID:ae6ea6cf-c255-46d2-5179-08de9f183112
DTSTAMP:20260420T200724Z
DTSTART:20260614T210000Z
DTEND:20260614T210000Z
TRANSP:TRANSPARENT
STATUS:CONFIRMED
SUMMARY:Mazeret Sınavına Girecek Öğrenciler İçin Fakülte Yönetim Kurulu Kararının Son Bildirim Tarihi
END:VEVENT
END:VCALENDAR
