BEGIN:VCALENDAR
VERSION:2.0
PRODID:itakvim.com
METHOD:PUBLISH
UID:af215634-29d4-4f7b-4f10-08de9f183112
X-WR-CALNAME:EKPSS Engelli Kamu Personeli Seçme Sınavı 2026-EKPSS/KURA Başvuru Bitiş
X-ITAKVIM-LANGUAGE:tr
X-ITAKVIM-REGION:TR
CALSCALE:GREGORIAN
BEGIN:VEVENT
UID:af215634-29d4-4f7b-4f10-08de9f183112
DTSTAMP:20260420T200538Z
DTSTART:20260512T210000Z
DTEND:20260512T210000Z
TRANSP:TRANSPARENT
STATUS:CONFIRMED
SUMMARY:EKPSS Engelli Kamu Personeli Seçme Sınavı 2026-EKPSS/KURA Başvuru Bitiş
END:VEVENT
END:VCALENDAR
