BEGIN:VCALENDAR
VERSION:2.0
PRODID:itakvim.com
METHOD:PUBLISH
UID:af3ea8eb-c3fb-4aa4-527e-08de9f183112
X-WR-CALNAME:Elektrik Aydınlatma Enerji Akıllı Teknolojiler Fuarı (Eles Expo)
X-ITAKVIM-LANGUAGE:tr
X-ITAKVIM-REGION:TR
CALSCALE:GREGORIAN
BEGIN:VEVENT
UID:af3ea8eb-c3fb-4aa4-527e-08de9f183112
DTSTAMP:20260420T200816Z
DTSTART:20260423T060000Z
DTEND:20260425T150000Z
TRANSP:TRANSPARENT
STATUS:CONFIRMED
SUMMARY:Elektrik Aydınlatma Enerji Akıllı Teknolojiler Fuarı (Eles Expo)
DESCRIPTION:Itc Fuarcılık Anonim Şirketi tarafından düzenlenen elektrik, aydınlatma, enerji, elektronik, yangın, alarm ve akıllı ev sistemleri konulu fuarda görüşmek üzere: 

Web:elesexpo.com
E-Posta: beril@embay.com.tr
LOCATION:İstanbul Fuar Merkezi
END:VEVENT
END:VCALENDAR
