BEGIN:VCALENDAR
VERSION:2.0
PRODID:itakvim.com
METHOD:PUBLISH
UID:af9c2499-f939-45a7-d2b4-08de9f271cd7
X-WR-CALNAME:Şubat 2026 Dönemi Elektronik Defter Beratları Son Gün
X-ITAKVIM-LANGUAGE:tr
X-ITAKVIM-REGION:TR
CALSCALE:GREGORIAN
BEGIN:VEVENT
UID:af9c2499-f939-45a7-d2b4-08de9f271cd7
DTSTAMP:20260420T215235Z
DTSTART:20260610T140000Z
DTEND:20260610T140000Z
TRANSP:TRANSPARENT
STATUS:CONFIRMED
SUMMARY:Şubat 2026 Dönemi Elektronik Defter Beratları Son Gün
DESCRIPTION:Aylık Yükleme Tercihinde Bulunmuş Gelir Vergisi Mükelleflerinin Şubat 2026 Dönemine Ait Elektronik Defter Beratlarının Yüklenmesi
END:VEVENT
END:VCALENDAR
