BEGIN:VCALENDAR
VERSION:2.0
PRODID:itakvim.com
METHOD:PUBLISH
UID:afc94412-40ab-4af6-4fd3-08de9f183112
X-WR-CALNAME:KURBAN BAYRAMI (3. Gün)
X-ITAKVIM-LANGUAGE:tr
X-ITAKVIM-REGION:TR
CALSCALE:GREGORIAN
BEGIN:VEVENT
UID:afc94412-40ab-4af6-4fd3-08de9f183112
DTSTAMP:20260420T200611Z
DTSTART:20260528T210000Z
DTEND:20260528T210000Z
TRANSP:TRANSPARENT
STATUS:CONFIRMED
SUMMARY:KURBAN BAYRAMI (3. Gün)
END:VEVENT
END:VCALENDAR
