BEGIN:VCALENDAR
VERSION:2.0
PRODID:itakvim.com
METHOD:PUBLISH
UID:b1279a04-63b1-48aa-4f6e-08de9f183112
X-WR-CALNAME:STS Öğretmenlik Öğretmenlik Meslek Bilgisi Alanında Yurt Dışı Yükseköğretim Diploma Denkliği İçin Seviye Tespit Sınavı 2026-STS Öğretmenlik Sınav
X-ITAKVIM-LANGUAGE:tr
X-ITAKVIM-REGION:TR
CALSCALE:GREGORIAN
BEGIN:VEVENT
UID:b1279a04-63b1-48aa-4f6e-08de9f183112
DTSTAMP:20260420T200538Z
DTSTART:20260612T210000Z
DTEND:20260612T210000Z
TRANSP:TRANSPARENT
STATUS:CONFIRMED
SUMMARY:STS Öğretmenlik Öğretmenlik Meslek Bilgisi Alanında Yurt Dışı Yükseköğretim Diploma Denkliği İçin Seviye Tespit Sınavı 2026-STS Öğretmenlik Sınav
END:VEVENT
END:VCALENDAR
