BEGIN:VCALENDAR
VERSION:2.0
PRODID:itakvim.com
METHOD:PUBLISH
UID:b1792487-cf74-48e1-5310-08de9f183112
X-WR-CALNAME:Broadcastex-Radyo & Televizyon, Dijital Yayıncılık Ekipmanları Ve Film Prodüksiyon, Ses & Işık Teknolojileri Fuarı
X-ITAKVIM-LANGUAGE:tr
X-ITAKVIM-REGION:TR
CALSCALE:GREGORIAN
BEGIN:VEVENT
UID:b1792487-cf74-48e1-5310-08de9f183112
DTSTAMP:20260420T200816Z
DTSTART:20261022T060000Z
DTEND:20261025T150000Z
TRANSP:TRANSPARENT
STATUS:CONFIRMED
SUMMARY:Broadcastex-Radyo & Televizyon, Dijital Yayıncılık Ekipmanları Ve Film Prodüksiyon, Ses & Işık Teknolojileri Fuarı
DESCRIPTION:Expotime Fuarcılık Hizmetleri Ve Organizasyon Ticaret Limited Şirketi tarafından düzenlenen radyo & televizyon, dijital yayıncılık ekipmanları ve film prodüksiyon, ses & işık teknolojileri konulu fuarda görüşmek üzere: 

Web:www.expolive.com
E-Posta: serkan@expotime.com.tr
LOCATION:Dr. Mimar Kadir Topbaş Gösteri Ve Sanat Merkezi
END:VEVENT
END:VCALENDAR
