BEGIN:VCALENDAR
VERSION:2.0
PRODID:itakvim.com
METHOD:PUBLISH
UID:b1984996-17cd-48b9-d2f6-08de9f271cd7
X-WR-CALNAME:2026 I. Geçici Vergi Dönemi (Ocak-Şubat-Mart) Kurum Geçici Vergisi Beyan ve Ödemesi Son Gün
X-ITAKVIM-LANGUAGE:tr
X-ITAKVIM-REGION:TR
CALSCALE:GREGORIAN
BEGIN:VEVENT
UID:b1984996-17cd-48b9-d2f6-08de9f271cd7
DTSTAMP:20260420T215235Z
DTSTART:20260518T140000Z
DTEND:20260518T140000Z
TRANSP:TRANSPARENT
STATUS:CONFIRMED
SUMMARY:2026 I. Geçici Vergi Dönemi (Ocak-Şubat-Mart) Kurum Geçici Vergisi Beyan ve Ödemesi Son Gün
DESCRIPTION:2026 I. Geçici Vergi Dönemine (Ocak-Şubat-Mart) Ait Kurum Geçici Vergisinin Beyanı ve Ödemesi
END:VEVENT
END:VCALENDAR
