BEGIN:VCALENDAR
VERSION:2.0
PRODID:itakvim.com
METHOD:PUBLISH
UID:b1e6b21a-3548-4fa8-5a93-08de9f8ee600
X-WR-CALNAME:Çöpsüz Dünya
X-ITAKVIM-LANGUAGE:tr
X-ITAKVIM-REGION:TR
CALSCALE:GREGORIAN
BEGIN:VEVENT
UID:b1e6b21a-3548-4fa8-5a93-08de9f8ee600
DTSTAMP:20260421T101704Z
DTSTART:20260423T130000Z
DTEND:20260423T130000Z
TRANSP:TRANSPARENT
STATUS:CONFIRMED
SUMMARY:Çöpsüz Dünya
LOCATION:Üsküdar Musahipzade Celal Sahnesi
END:VEVENT
END:VCALENDAR
