BEGIN:VCALENDAR
VERSION:2.0
PRODID:itakvim.com
METHOD:PUBLISH
UID:b31a8ea9-a27c-4d0c-4ee9-08de9f183112
X-WR-CALNAME:KPSS Kamu Personel Seçme Sınavı 2026-KPSS Lisans (Genel Yetenek-Genel Kültür) Geç Başvuru Bitiş
X-ITAKVIM-LANGUAGE:tr
X-ITAKVIM-REGION:TR
CALSCALE:GREGORIAN
BEGIN:VEVENT
UID:b31a8ea9-a27c-4d0c-4ee9-08de9f183112
DTSTAMP:20260420T200538Z
DTSTART:20260723T205900Z
DTEND:20260723T205900Z
TRANSP:TRANSPARENT
STATUS:CONFIRMED
SUMMARY:KPSS Kamu Personel Seçme Sınavı 2026-KPSS Lisans (Genel Yetenek-Genel Kültür) Geç Başvuru Bitiş
END:VEVENT
END:VCALENDAR
