BEGIN:VCALENDAR
VERSION:2.0
PRODID:itakvim.com
METHOD:PUBLISH
UID:b3ae8347-b83a-4f3c-4f0f-08de9f183112
X-WR-CALNAME:EKPSS Engelli Kamu Personeli Seçme Sınavı 2026-EKPSS/KURA Başvuru Başlangıç
X-ITAKVIM-LANGUAGE:tr
X-ITAKVIM-REGION:TR
CALSCALE:GREGORIAN
BEGIN:VEVENT
UID:b3ae8347-b83a-4f3c-4f0f-08de9f183112
DTSTAMP:20260420T200538Z
DTSTART:20260427T210000Z
DTEND:20260427T210000Z
TRANSP:TRANSPARENT
STATUS:CONFIRMED
SUMMARY:EKPSS Engelli Kamu Personeli Seçme Sınavı 2026-EKPSS/KURA Başvuru Başlangıç
END:VEVENT
END:VCALENDAR
