BEGIN:VCALENDAR
VERSION:2.0
PRODID:itakvim.com
METHOD:PUBLISH
UID:b3b819ba-23b2-46b0-d2ec-08de9f271cd7
X-WR-CALNAME:Ocak-Şubat-Mart 2026 Dönemi Turizm Payı Beyan ve Ödemesi Son Gün
X-ITAKVIM-LANGUAGE:tr
X-ITAKVIM-REGION:TR
CALSCALE:GREGORIAN
BEGIN:VEVENT
UID:b3b819ba-23b2-46b0-d2ec-08de9f271cd7
DTSTAMP:20260420T215235Z
DTSTART:20260430T140000Z
DTEND:20260430T140000Z
TRANSP:TRANSPARENT
STATUS:CONFIRMED
SUMMARY:Ocak-Şubat-Mart 2026 Dönemi Turizm Payı Beyan ve Ödemesi Son Gün
DESCRIPTION:Ocak-Şubat-Mart 2026 Dönemine Ait Turizm Payının Beyanı ve Ödemesi
END:VEVENT
END:VCALENDAR
