BEGIN:VCALENDAR
VERSION:2.0
PRODID:itakvim.com
METHOD:PUBLISH
UID:b46b72e1-7263-4ffd-4f04-08de9f183112
X-WR-CALNAME:KPSS Kamu Personel Seçme Sınavı 2026-KPSS Din Hizmetleri Alan Bilgisi Testi (DHBT) Başvuru Başlangıç
X-ITAKVIM-LANGUAGE:tr
X-ITAKVIM-REGION:TR
CALSCALE:GREGORIAN
BEGIN:VEVENT
UID:b46b72e1-7263-4ffd-4f04-08de9f183112
DTSTAMP:20260420T200538Z
DTSTART:20260921T210000Z
DTEND:20260921T210000Z
TRANSP:TRANSPARENT
STATUS:CONFIRMED
SUMMARY:KPSS Kamu Personel Seçme Sınavı 2026-KPSS Din Hizmetleri Alan Bilgisi Testi (DHBT) Başvuru Başlangıç
END:VEVENT
END:VCALENDAR
