BEGIN:VCALENDAR
VERSION:2.0
PRODID:itakvim.com
METHOD:PUBLISH
UID:b48fc033-c44f-4ee1-52cf-08de9f183112
X-WR-CALNAME:Bosphorus Boat Show
X-ITAKVIM-LANGUAGE:tr
X-ITAKVIM-REGION:TR
CALSCALE:GREGORIAN
BEGIN:VEVENT
UID:b48fc033-c44f-4ee1-52cf-08de9f183112
DTSTAMP:20260420T200817Z
DTSTART:20261017T060000Z
DTEND:20261025T150000Z
TRANSP:TRANSPARENT
STATUS:CONFIRMED
SUMMARY:Bosphorus Boat Show
DESCRIPTION:Yated Fuarcılık Anonim Şirketi tarafından düzenlenen tekne, tekne ekipman ve aksesuaraları konulu fuarda görüşmek üzere: 

Web:bosphorusboatshow.com
E-Posta: yated@yated.org.tr
LOCATION:Ataköy Marina Ve Yat İşletmeleri A.Ş.
END:VEVENT
END:VCALENDAR
