BEGIN:VCALENDAR
VERSION:2.0
PRODID:itakvim.com
METHOD:PUBLISH
UID:b6915123-e42d-444f-5314-08de9f183112
X-WR-CALNAME:Souvenır Expo Türkiye Turistik Hediyelik Ve Hatıra Eşya Fuarı
X-ITAKVIM-LANGUAGE:tr
X-ITAKVIM-REGION:TR
CALSCALE:GREGORIAN
BEGIN:VEVENT
UID:b6915123-e42d-444f-5314-08de9f183112
DTSTAMP:20260420T200816Z
DTSTART:20261119T060000Z
DTEND:20261122T150000Z
TRANSP:TRANSPARENT
STATUS:CONFIRMED
SUMMARY:Souvenır Expo Türkiye Turistik Hediyelik Ve Hatıra Eşya Fuarı
DESCRIPTION:Rota Exhibitions Turkey Fuarcılık A.Ş. tarafından düzenlenen turistik hediyelik ürünler ve hatıra eşyalar konulu fuarda görüşmek üzere: 

Web:www.rotaexhibitions.com.tr
E-Posta: bakkor@rotaexhibitions.com.tr
LOCATION:Dr. Mimar Kadir Topbaş Gösteri Ve Sanat Merkezi
END:VEVENT
END:VCALENDAR
