BEGIN:VCALENDAR
VERSION:2.0
PRODID:itakvim.com
METHOD:PUBLISH
UID:b8ad8945-199f-4a3d-4f8b-08de9f183112
X-WR-CALNAME:e-YÖKDİL Elektronik Yükseköğretim Kurumları Yabancı Dil Sınavı (e-YÖKDİL 2026/2 İngilizce-Sağlık Bilimleri) ****** Başvuru Başlangıç
X-ITAKVIM-LANGUAGE:tr
X-ITAKVIM-REGION:TR
CALSCALE:GREGORIAN
BEGIN:VEVENT
UID:b8ad8945-199f-4a3d-4f8b-08de9f183112
DTSTAMP:20260420T200538Z
DTSTART:20260428T210000Z
DTEND:20260428T210000Z
TRANSP:TRANSPARENT
STATUS:CONFIRMED
SUMMARY:e-YÖKDİL Elektronik Yükseköğretim Kurumları Yabancı Dil Sınavı (e-YÖKDİL 2026/2 İngilizce-Sağlık Bilimleri) ****** Başvuru Başlangıç
END:VEVENT
END:VCALENDAR
