BEGIN:VCALENDAR
VERSION:2.0
PRODID:itakvim.com
METHOD:PUBLISH
UID:b983d440-dedc-447c-d23d-08de9f271cd7
X-WR-CALNAME:MAVI, %3.69, 1,4221 TL
X-ITAKVIM-LANGUAGE:tr
X-ITAKVIM-REGION:TR
CALSCALE:GREGORIAN
BEGIN:VEVENT
UID:b983d440-dedc-447c-d23d-08de9f271cd7
DTSTAMP:20260420T215226Z
DTSTART:20260506T060000Z
DTEND:20260506T140000Z
TRANSP:TRANSPARENT
STATUS:CONFIRMED
SUMMARY:MAVI, %3.69, 1,4221 TL
DESCRIPTION:Mavi Giyim San. ve Tic. A.Ş.
END:VEVENT
END:VCALENDAR
