BEGIN:VCALENDAR
VERSION:2.0
PRODID:itakvim.com
METHOD:PUBLISH
UID:b9c322c3-f83f-4d0c-5244-08de9f183112
X-WR-CALNAME:9. Cleanroom Uluslararası Temizoda Teknolojisi, Bakım Ve Donanımları Fuarı
X-ITAKVIM-LANGUAGE:tr
X-ITAKVIM-REGION:TR
CALSCALE:GREGORIAN
BEGIN:VEVENT
UID:b9c322c3-f83f-4d0c-5244-08de9f183112
DTSTAMP:20260420T200816Z
DTSTART:20261014T060000Z
DTEND:20261016T150000Z
TRANSP:TRANSPARENT
STATUS:CONFIRMED
SUMMARY:9. Cleanroom Uluslararası Temizoda Teknolojisi, Bakım Ve Donanımları Fuarı
DESCRIPTION:Akdeniz Reklamcılık Tanıtım Ve Fuar Hizmetleri Limited Şirketi tarafından düzenlenen temizoda teknolojisi, bakımı ve donanımları konulu fuarda görüşmek üzere: 

Web:www.bioexpo.com.tr
E-Posta: info@yapex.com
LOCATION:Lütfi Kırdar Uluslararası Kongre Ve Sergi Sarayı
END:VEVENT
END:VCALENDAR
