BEGIN:VCALENDAR
VERSION:2.0
PRODID:itakvim.com
METHOD:PUBLISH
UID:b9d29032-7a14-48f1-4ed2-08de9f183112
X-WR-CALNAME:YKS Yükseköğretim Kurumları Sınavı 2026-YKS 3. Oturum (YDT) Sonuç
X-ITAKVIM-LANGUAGE:tr
X-ITAKVIM-REGION:TR
CALSCALE:GREGORIAN
BEGIN:VEVENT
UID:b9d29032-7a14-48f1-4ed2-08de9f183112
DTSTAMP:20260420T200538Z
DTSTART:20260721T210000Z
DTEND:20260721T210000Z
TRANSP:TRANSPARENT
STATUS:CONFIRMED
SUMMARY:YKS Yükseköğretim Kurumları Sınavı 2026-YKS 3. Oturum (YDT) Sonuç
END:VEVENT
END:VCALENDAR
