BEGIN:VCALENDAR
VERSION:2.0
PRODID:itakvim.com
METHOD:PUBLISH
UID:ba07418e-5c1a-4372-5271-08de9f183112
X-WR-CALNAME:Ehatech Expo,Yenilenebilir Enerji,Elektrikli Ve Hibrit Araçlar,Şarj İstasyonları Ve Batarya Teknolojileri Fuarı
X-ITAKVIM-LANGUAGE:tr
X-ITAKVIM-REGION:TR
CALSCALE:GREGORIAN
BEGIN:VEVENT
UID:ba07418e-5c1a-4372-5271-08de9f183112
DTSTAMP:20260420T200816Z
DTSTART:20261217T060000Z
DTEND:20261220T150000Z
TRANSP:TRANSPARENT
STATUS:CONFIRMED
SUMMARY:Ehatech Expo,Yenilenebilir Enerji,Elektrikli Ve Hibrit Araçlar,Şarj İstasyonları Ve Batarya Teknolojileri Fuarı
DESCRIPTION:Geoexpo Fuar Ve Medya Limited Şirketi tarafından düzenlenen yenilenebilir enerji,elektrikli hibrit araçlar,şarj İstasyonları,batarya teknolojileri konulu fuarda görüşmek üzere: 

Web:EHATECH.COM.TR
E-Posta: geoexpotr@gmail.com
LOCATION:Anfaş Antalya Fuar Ve Kongre Merkezi
END:VEVENT
END:VCALENDAR
