BEGIN:VCALENDAR
VERSION:2.0
PRODID:itakvim.com
METHOD:PUBLISH
UID:ba39f2d3-8460-469d-534e-08de9f183112
X-WR-CALNAME:Horeca Fair 7. Uluslararası Otel, Restoran, Kafe, Fırın Ekipmanları, Unlu Mamuller, Dondurma, Pastacılık Teknolojileri Ve Ev Dışı Tüketim Fuarı
X-ITAKVIM-LANGUAGE:tr
X-ITAKVIM-REGION:TR
CALSCALE:GREGORIAN
BEGIN:VEVENT
UID:ba39f2d3-8460-469d-534e-08de9f183112
DTSTAMP:20260420T200816Z
DTSTART:20261202T060000Z
DTEND:20261205T150000Z
TRANSP:TRANSPARENT
STATUS:CONFIRMED
SUMMARY:Horeca Fair 7. Uluslararası Otel, Restoran, Kafe, Fırın Ekipmanları, Unlu Mamuller, Dondurma, Pastacılık Teknolojileri Ve Ev Dışı Tüketim Fuarı
DESCRIPTION:Gl Platform Fuar Hizmetleri Ltd. Şti. tarafından düzenlenen otel, restaurant, kafe, fırın, çamaşırhane ekipmanları, ağırlama, konaklama teknolojileri konulu fuarda görüşmek üzere: 

Web:www.glplatformfuar.com
E-Posta: info@glplatformfuar.com
LOCATION:Fuarizmir - Yeni Fuar Alanı
END:VEVENT
END:VCALENDAR
