BEGIN:VCALENDAR
VERSION:2.0
PRODID:itakvim.com
METHOD:PUBLISH
UID:bb1ccd7e-235b-40e3-5353-08de9f183112
X-WR-CALNAME:2. Demot Denizli Motorlu Taşıtlar Fuarı
X-ITAKVIM-LANGUAGE:tr
X-ITAKVIM-REGION:TR
CALSCALE:GREGORIAN
BEGIN:VEVENT
UID:bb1ccd7e-235b-40e3-5353-08de9f183112
DTSTAMP:20260420T200816Z
DTSTART:20260511T060000Z
DTEND:20260517T150000Z
TRANSP:TRANSPARENT
STATUS:CONFIRMED
SUMMARY:2. Demot Denizli Motorlu Taşıtlar Fuarı
DESCRIPTION:Bizim Prodüksiyon Limited Şirketi tarafından düzenlenen otomobil, ticari araç, motorsiklet, elektrikli bisiklet, traktör, otomotiv yan sanay konulu fuarda görüşmek üzere: 

Web:bizimfuarcilik.com
E-Posta: bizimfuarcilik@gmail.com
LOCATION:Denizli Egs Kongre Ve Kültür Merkezi
END:VEVENT
END:VCALENDAR
